BEGIN:VCALENDAR
VERSION:2.0
PRODID:-//Government College Umuahia Old Boys Association USA - ECPv6.15.20//NONSGML v1.0//EN
CALSCALE:GREGORIAN
METHOD:PUBLISH
X-WR-CALNAME:Government College Umuahia Old Boys Association USA
X-ORIGINAL-URL:https://gcuobausa.org
X-WR-CALDESC:Events for Government College Umuahia Old Boys Association USA
REFRESH-INTERVAL;VALUE=DURATION:PT1H
X-Robots-Tag:noindex
X-PUBLISHED-TTL:PT1H
BEGIN:VTIMEZONE
TZID:America/New_York
BEGIN:DAYLIGHT
TZOFFSETFROM:-0500
TZOFFSETTO:-0400
TZNAME:EDT
DTSTART:20240310T070000
END:DAYLIGHT
BEGIN:STANDARD
TZOFFSETFROM:-0400
TZOFFSETTO:-0500
TZNAME:EST
DTSTART:20241103T060000
END:STANDARD
BEGIN:DAYLIGHT
TZOFFSETFROM:-0500
TZOFFSETTO:-0400
TZNAME:EDT
DTSTART:20250309T070000
END:DAYLIGHT
BEGIN:STANDARD
TZOFFSETFROM:-0400
TZOFFSETTO:-0500
TZNAME:EST
DTSTART:20251102T060000
END:STANDARD
BEGIN:DAYLIGHT
TZOFFSETFROM:-0500
TZOFFSETTO:-0400
TZNAME:EDT
DTSTART:20260308T070000
END:DAYLIGHT
BEGIN:STANDARD
TZOFFSETFROM:-0400
TZOFFSETTO:-0500
TZNAME:EST
DTSTART:20261101T060000
END:STANDARD
END:VTIMEZONE
BEGIN:VEVENT
DTSTART;VALUE=DATE:20250911
DTEND;VALUE=DATE:20250915
DTSTAMP:20260424T211123
CREATED:20250322T011051Z
LAST-MODIFIED:20250323T183336Z
UID:36511-1757548800-1757894399@gcuobausa.org
SUMMARY:GCUOBA USA Convention Washington DC 2025
DESCRIPTION:  \nBook Your Stay now!!!!\nEvent Summary: \nGCUOBA USA 2025 Convention\nStart Date: Thursday\, September 11\, 2025\nEnd Date: Sunday\, September 14\, 2025 \n  \nHotel(s) offering your special group rate:\nCrowne Plaza: College Park – Washington DC for $139 USD per night \n  \n \n \n\n \nRelated Images:
URL:https://gcuobausa.org/event/gcuoba-usa-convention-washington-2025/
LOCATION:Crowne Plaza: College Park – Washington DC\, 6400 Ivy Lane\, Greenbelt\, MD\, 20770\, United States
CATEGORIES:Convention
END:VEVENT
END:VCALENDAR