BEGIN:VCALENDAR
VERSION:2.0
PRODID:-//Government College Umuahia Old Boys Association USA - ECPv6.15.20//NONSGML v1.0//EN
CALSCALE:GREGORIAN
METHOD:PUBLISH
X-WR-CALNAME:Government College Umuahia Old Boys Association USA
X-ORIGINAL-URL:https://gcuobausa.org
X-WR-CALDESC:Events for Government College Umuahia Old Boys Association USA
REFRESH-INTERVAL;VALUE=DURATION:PT1H
X-Robots-Tag:noindex
X-PUBLISHED-TTL:PT1H
BEGIN:VTIMEZONE
TZID:America/New_York
BEGIN:DAYLIGHT
TZOFFSETFROM:-0500
TZOFFSETTO:-0400
TZNAME:EDT
DTSTART:20220313T070000
END:DAYLIGHT
BEGIN:STANDARD
TZOFFSETFROM:-0400
TZOFFSETTO:-0500
TZNAME:EST
DTSTART:20221106T060000
END:STANDARD
BEGIN:DAYLIGHT
TZOFFSETFROM:-0500
TZOFFSETTO:-0400
TZNAME:EDT
DTSTART:20230312T070000
END:DAYLIGHT
BEGIN:STANDARD
TZOFFSETFROM:-0400
TZOFFSETTO:-0500
TZNAME:EST
DTSTART:20231105T060000
END:STANDARD
BEGIN:DAYLIGHT
TZOFFSETFROM:-0500
TZOFFSETTO:-0400
TZNAME:EDT
DTSTART:20240310T070000
END:DAYLIGHT
BEGIN:STANDARD
TZOFFSETFROM:-0400
TZOFFSETTO:-0500
TZNAME:EST
DTSTART:20241103T060000
END:STANDARD
END:VTIMEZONE
BEGIN:VEVENT
DTSTART;TZID=America/New_York:20230705T000000
DTEND;TZID=America/New_York:20230705T000000
DTSTAMP:20260424T161746
CREATED:20230610T230923Z
LAST-MODIFIED:20230610T230923Z
UID:35870-1688515200-1688515200@gcuobausa.org
SUMMARY:12th Engr Prof Y.O. Beredugo Distinguished Annual lecture & 93rd Birthday Celebration
DESCRIPTION:Dear Distinguished Government College Umuahia Old Boys\, \nKindly find below information about the 12th Engr Prof Y.O. Beredugo Distinguished Annual lecture & 93rd Birthday celebration to be held on the 5th of July 2023 @ FB Gardens\, No 42 Forces Avenue\, Old GRA\, Port Harcourt. Regards \nRelated Images:
URL:https://gcuobausa.org/event/12th-engr-prof-y-o-beredugo-distinguished-annual-lecture-93rd-birthday-celebration/
LOCATION:FB Gardens\, 42 Forces Avenue\, Old GRA\, Port Harcourt\, Rivers\, Nigeria
CATEGORIES:Lecture
END:VEVENT
BEGIN:VEVENT
DTSTART;TZID=America/New_York:20230624T100000
DTEND;TZID=America/New_York:20230624T210000
DTSTAMP:20260424T161746
CREATED:20230614T123624Z
LAST-MODIFIED:20230614T124021Z
UID:35914-1687600800-1687640400@gcuobausa.org
SUMMARY:Achebe Day
DESCRIPTION:WENEFF – GCUOBA \nRelated Images:
URL:https://gcuobausa.org/event/achebe-day/
LOCATION:Fellowship Hall\, 14900 Annapolis Rd\, Bowie\, MD\, 20720\, United States
CATEGORIES:Lecture,Symposium
END:VEVENT
END:VCALENDAR