BEGIN:VCALENDAR
VERSION:2.0
PRODID:-//Government College Umuahia Old Boys Association USA - ECPv6.15.20//NONSGML v1.0//EN
CALSCALE:GREGORIAN
METHOD:PUBLISH
X-WR-CALNAME:Government College Umuahia Old Boys Association USA
X-ORIGINAL-URL:https://gcuobausa.org
X-WR-CALDESC:Events for Government College Umuahia Old Boys Association USA
REFRESH-INTERVAL;VALUE=DURATION:PT1H
X-Robots-Tag:noindex
X-PUBLISHED-TTL:PT1H
BEGIN:VTIMEZONE
TZID:America/New_York
BEGIN:DAYLIGHT
TZOFFSETFROM:-0500
TZOFFSETTO:-0400
TZNAME:EDT
DTSTART:20220313T070000
END:DAYLIGHT
BEGIN:STANDARD
TZOFFSETFROM:-0400
TZOFFSETTO:-0500
TZNAME:EST
DTSTART:20221106T060000
END:STANDARD
BEGIN:DAYLIGHT
TZOFFSETFROM:-0500
TZOFFSETTO:-0400
TZNAME:EDT
DTSTART:20230312T070000
END:DAYLIGHT
BEGIN:STANDARD
TZOFFSETFROM:-0400
TZOFFSETTO:-0500
TZNAME:EST
DTSTART:20231105T060000
END:STANDARD
BEGIN:DAYLIGHT
TZOFFSETFROM:-0500
TZOFFSETTO:-0400
TZNAME:EDT
DTSTART:20240310T070000
END:DAYLIGHT
BEGIN:STANDARD
TZOFFSETFROM:-0400
TZOFFSETTO:-0500
TZNAME:EST
DTSTART:20241103T060000
END:STANDARD
END:VTIMEZONE
BEGIN:VEVENT
DTSTART;TZID=America/New_York:20231014T100000
DTEND;TZID=America/New_York:20231014T170000
DTSTAMP:20260424T124719
CREATED:20230919T041007Z
LAST-MODIFIED:20230919T041007Z
UID:36090-1697277600-1697302800@gcuobausa.org
SUMMARY:GCUOBA Class '94 Virtual Trade Fair
DESCRIPTION:Meeting Link: Join Virtual Trade Fair\nMeeting ID: 817 3658 0746\nPasscode: 058763 \n\n\n\n \nRelated Images:
URL:https://gcuobausa.org/event/gcuoba-class-94-virtual-trade-fair/
LOCATION:Virtual Meeting
CATEGORIES:Members Events
END:VEVENT
END:VCALENDAR