BEGIN:VCALENDAR
VERSION:2.0
PRODID:-//Government College Umuahia Old Boys Association USA - ECPv6.15.20//NONSGML v1.0//EN
CALSCALE:GREGORIAN
METHOD:PUBLISH
X-ORIGINAL-URL:https://gcuobausa.org
X-WR-CALDESC:Events for Government College Umuahia Old Boys Association USA
REFRESH-INTERVAL;VALUE=DURATION:PT1H
X-Robots-Tag:noindex
X-PUBLISHED-TTL:PT1H
BEGIN:VTIMEZONE
TZID:America/New_York
BEGIN:DAYLIGHT
TZOFFSETFROM:-0500
TZOFFSETTO:-0400
TZNAME:EDT
DTSTART:20210314T070000
END:DAYLIGHT
BEGIN:STANDARD
TZOFFSETFROM:-0400
TZOFFSETTO:-0500
TZNAME:EST
DTSTART:20211107T060000
END:STANDARD
BEGIN:DAYLIGHT
TZOFFSETFROM:-0500
TZOFFSETTO:-0400
TZNAME:EDT
DTSTART:20220313T070000
END:DAYLIGHT
BEGIN:STANDARD
TZOFFSETFROM:-0400
TZOFFSETTO:-0500
TZNAME:EST
DTSTART:20221106T060000
END:STANDARD
BEGIN:DAYLIGHT
TZOFFSETFROM:-0500
TZOFFSETTO:-0400
TZNAME:EDT
DTSTART:20230312T070000
END:DAYLIGHT
BEGIN:STANDARD
TZOFFSETFROM:-0400
TZOFFSETTO:-0500
TZNAME:EST
DTSTART:20231105T060000
END:STANDARD
BEGIN:DAYLIGHT
TZOFFSETFROM:-0500
TZOFFSETTO:-0400
TZNAME:EDT
DTSTART:20240310T070000
END:DAYLIGHT
BEGIN:STANDARD
TZOFFSETFROM:-0400
TZOFFSETTO:-0500
TZNAME:EST
DTSTART:20241103T060000
END:STANDARD
END:VTIMEZONE
BEGIN:VTIMEZONE
TZID:America/Chicago
BEGIN:DAYLIGHT
TZOFFSETFROM:-0600
TZOFFSETTO:-0500
TZNAME:CDT
DTSTART:20210314T080000
END:DAYLIGHT
BEGIN:STANDARD
TZOFFSETFROM:-0500
TZOFFSETTO:-0600
TZNAME:CST
DTSTART:20211107T070000
END:STANDARD
BEGIN:DAYLIGHT
TZOFFSETFROM:-0600
TZOFFSETTO:-0500
TZNAME:CDT
DTSTART:20220313T080000
END:DAYLIGHT
BEGIN:STANDARD
TZOFFSETFROM:-0500
TZOFFSETTO:-0600
TZNAME:CST
DTSTART:20221106T070000
END:STANDARD
BEGIN:DAYLIGHT
TZOFFSETFROM:-0600
TZOFFSETTO:-0500
TZNAME:CDT
DTSTART:20230312T080000
END:DAYLIGHT
BEGIN:STANDARD
TZOFFSETFROM:-0500
TZOFFSETTO:-0600
TZNAME:CST
DTSTART:20231105T070000
END:STANDARD
END:VTIMEZONE
BEGIN:VTIMEZONE
TZID:Africa/Lagos
BEGIN:STANDARD
TZOFFSETFROM:+0100
TZOFFSETTO:+0100
TZNAME:WAT
DTSTART:20210101T000000
END:STANDARD
END:VTIMEZONE
BEGIN:VEVENT
DTSTART;TZID=America/New_York:20230705T000000
DTEND;TZID=America/New_York:20230705T000000
DTSTAMP:20260424T092346
CREATED:20230610T230923Z
LAST-MODIFIED:20230610T230923Z
UID:35870-1688515200-1688515200@gcuobausa.org
SUMMARY:12th Engr Prof Y.O. Beredugo Distinguished Annual lecture & 93rd Birthday Celebration
DESCRIPTION:Dear Distinguished Government College Umuahia Old Boys\, \nKindly find below information about the 12th Engr Prof Y.O. Beredugo Distinguished Annual lecture & 93rd Birthday celebration to be held on the 5th of July 2023 @ FB Gardens\, No 42 Forces Avenue\, Old GRA\, Port Harcourt. Regards \nRelated Images:
URL:https://gcuobausa.org/event/12th-engr-prof-y-o-beredugo-distinguished-annual-lecture-93rd-birthday-celebration/
LOCATION:FB Gardens\, 42 Forces Avenue\, Old GRA\, Port Harcourt\, Rivers\, Nigeria
CATEGORIES:Lecture
END:VEVENT
BEGIN:VEVENT
DTSTART;TZID=America/New_York:20230624T100000
DTEND;TZID=America/New_York:20230624T210000
DTSTAMP:20260424T092346
CREATED:20230614T123624Z
LAST-MODIFIED:20230614T124021Z
UID:35914-1687600800-1687640400@gcuobausa.org
SUMMARY:Achebe Day
DESCRIPTION:WENEFF – GCUOBA \nRelated Images:
URL:https://gcuobausa.org/event/achebe-day/
LOCATION:Fellowship Hall\, 14900 Annapolis Rd\, Bowie\, MD\, 20720\, United States
CATEGORIES:Lecture,Symposium
END:VEVENT
BEGIN:VEVENT
DTSTART;TZID=America/New_York:20230422T170000
DTEND;TZID=America/New_York:20230422T170000
DTSTAMP:20260424T092346
CREATED:20230314T055913Z
LAST-MODIFIED:20230420T015912Z
UID:35743-1682182800-1682182800@gcuobausa.org
SUMMARY:Service Of Songs for Ezinne Gladys C. Onuigbo (94)
DESCRIPTION:  \nLIVESTREAM VIDEO LINK FOR MAMA’S SERVICE OF SONGS ON SATURDAY\, APRIL 22\, 2023\, AT 5 PM EST (10 PM NIGERIAN TIME)\nThe Service of Songs for Mama Ezinne Gladys Chinyelu Onuigbo at The Cathedral Church of St. Paul\, Burlington\, VT\, will be streamed through our YouTube site which is accessible here: https://www.youtube.com/channel/UC9eejE2xvHOADEsIGqscGQw\nThank you. \nMac & Nneoma Onuigbo\, For the Family. \nHotels\n \n  \nRelated Images:
URL:https://gcuobausa.org/event/service-of-songs-for-ezinne-gladys-c-onuigbo-94/
LOCATION:Cathedral Church Of St. Paul\, 2 Cherry St.\, Burlington\, VT\, 05401\, United States
CATEGORIES:Obituary
END:VEVENT
BEGIN:VEVENT
DTSTART;TZID=America/New_York:20230414T110000
DTEND;TZID=America/New_York:20230414T110000
DTSTAMP:20260424T092346
CREATED:20230328T023601Z
LAST-MODIFIED:20230328T023700Z
UID:35789-1681470000-1681470000@gcuobausa.org
SUMMARY:Burial Ceremony of Chukwuemeka Geoffrey Okpala
DESCRIPTION:Related Images:
URL:https://gcuobausa.org/event/burial-ceremony-of-chukwuemeka-geoffrey-okpala/
LOCATION:Okpala Residence\, Umuonyia Village\, Nkpologwu\, Anambra\, Nigeria
CATEGORIES:Obituary
END:VEVENT
BEGIN:VEVENT
DTSTART;TZID=America/New_York:20230401T180000
DTEND;TZID=America/New_York:20230401T230000
DTSTAMP:20260424T092346
CREATED:20230310T173706Z
LAST-MODIFIED:20230310T173706Z
UID:35728-1680372000-1680390000@gcuobausa.org
SUMMARY:Service of Songs for Rose Adabuisi Crisp nee Onwu
DESCRIPTION:This is Dr. Bato Amu’s mother-in-law’s service of songs.\nDate: April 1\, 2023\nVenue: Roswell Historic Hall\nAddress: 972 Alpharetta St\, Roswell\, GA 30075 \nParking:\nParking at Roswell City Hall\n38 Hill Street\, Roswell\, GA 30075\nFree shuttle provided every 15 minutes to venue. \nRelated Images:
URL:https://gcuobausa.org/event/service-of-songs-for-rose-adabuisi-crisp-nee-onwu/
LOCATION:Rivers
CATEGORIES:Obituary
ATTACH;FMTTYPE=image/jpeg:https://gcuobausa.org/wp-content/uploads/2023/03/Bato-Amus-mother-in-law.jpeg
END:VEVENT
BEGIN:VEVENT
DTSTART;TZID=America/New_York:20230128T110000
DTEND;TZID=America/New_York:20230128T130000
DTSTAMP:20260424T092346
CREATED:20230115T211951Z
LAST-MODIFIED:20230115T211951Z
UID:33767-1674903600-1674910800@gcuobausa.org
SUMMARY:Funeral for Victor Okugo Onyeador
DESCRIPTION:My Dear Brothers & Sisters: \nGreetings and compliments of the season to you and yours. I hope this message finds you all in good spirit and health. We all can recall the sudden news of the passing to glory of our brother Victor Okugo Onyeador. May his soul rest in the peace of the Lord. Based on the wishes of Okugo\, he will be buried in Arizona. Please see details of the burial plan below. Mazi Gabe Onyeador needs our support to help bury his brother.\nThank you in advance for your support. \nPlease send your donations to: \nGabe B Onyeador\nZelle: 503-754-5500 \nBank of America\nChecking # 446010908769 \nThank you\, my brothers and sisters and may God bless you all IJMN Amen. \nMazi Gabe B Onyeador \nBURIAL PLAN! BURIAL PLAN!! \nService of song Friday 01/27/23 at Victory Community Church Hall\, 3402 W Osborn Road\, Phoenix Az 85017. \nTime 6 pm to 12 midnight. \nPastor Mosley Ogbanga \nSaturday 01/28/23 viewing at Best Funeral Services West Valley Chapel. 9380 W Peoria Ave\, Peoria AZ 85345.\nFrom 11am to 1 pm \nRelated Images:
URL:https://gcuobausa.org/event/funeral-for-victor-okugo-onyeador/
LOCATION:Best Funeral Services West Valley Chapel\, 9380 W Peoria Ave\, Peoria\, AZ\, 85345\, United States
CATEGORIES:Obituary
END:VEVENT
BEGIN:VEVENT
DTSTART;TZID=America/New_York:20221217T150000
DTEND;TZID=America/New_York:20221217T150000
DTSTAMP:20260424T092346
CREATED:20221216T094633Z
LAST-MODIFIED:20221216T094633Z
UID:31049-1671289200-1671289200@gcuobausa.org
SUMMARY:GCUOBA ENDOWMENT COMMITTEE FOR A TOWNHALL/BRIEFING
DESCRIPTION:Join the GCUOBA ENDOWMENT COMMITTEE FOR A TOWNHALL/BRIEFING \nTopic: GCU ENDOWMENT FUND \nDate: Saturday Dec 17\, 2022 \nTime(s): 03:00 PM Eastern Time (US and Canada)\n09:00 PM Lagos/Nigeria\n08:00 PM London/UK \nJoin Zoom Meeting\nhttps://us06web.zoom.us/j/81343357857?pwd=WkVNTVNpeUlkZy9BaU5nckxzTTBrdz09 \nMeeting ID: 813 4335 7857\nPasscode: NDowGCU\nOne tap mobile\n+13126266799\,\,81343357857#\,\,\,\,*4209027# US (Chicago)\n+16469313860\,\,81343357857#\,\,\,\,*4209027# US \nDial by your location\n+1 312 626 6799 US (Chicago)\n+1 646 931 3860 US\n+1 929 205 6099 US (New York)\n+1 301 715 8592 US (Washington DC)\n+1 305 224 1968 US\n+1 309 205 3325 US\n+1 669 900 6833 US (San Jose)\n+1 689 278 1000 US\n+1 719 359 4580 US\n+1 253 205 0468 US\n+1 253 215 8782 US (Tacoma)\n+1 346 248 7799 US (Houston)\n+1 360 209 5623 US\n+1 386 347 5053 US\n+1 507 473 4847 US\n+1 564 217 2000 US\n+1 669 444 9171 US\nMeeting ID: 813 4335 7857\nPasscode: 4209027\nFind your local number: https://us06web.zoom.us/u/kcGpwdN4sw \nRelated Images:
URL:https://gcuobausa.org/event/gcuoba-endowment-committee-for-a-townhall-briefing/
LOCATION:Zoom
CATEGORIES:Meeting
END:VEVENT
BEGIN:VEVENT
DTSTART;TZID=America/Chicago:20221202T210000
DTEND;TZID=America/Chicago:20221202T210000
DTSTAMP:20260424T092346
CREATED:20221115T161540Z
LAST-MODIFIED:20221115T162748Z
UID:29158-1670014800-1670014800@gcuobausa.org
SUMMARY:Service of Songs for Mrs Roseline Ugochukwu Okoroji
DESCRIPTION:Related Images:
URL:https://gcuobausa.org/event/service-of-songs-for-mrs-roseline-ugochukwu-okoroji/
LOCATION:All Saint Catholic Church\, 13403 Renn Road\, Houston\, Texas\, 77077\, United States
CATEGORIES:Obituary
END:VEVENT
BEGIN:VEVENT
DTSTART;TZID=Africa/Lagos:20221201T180000
DTEND;TZID=Africa/Lagos:20221201T180000
DTSTAMP:20260424T092346
CREATED:20221120T114358Z
LAST-MODIFIED:20221120T114358Z
UID:29523-1669917600-1669917600@gcuobausa.org
SUMMARY:GCUOBA Abuja End of Year Party & Fund Raising
DESCRIPTION:Related Images:
URL:https://gcuobausa.org/event/gcuoba-abuja-end-of-year-party-fund-raising/
LOCATION:Rockview Hotel Classic\, Plot 194 Adetokunbo Ademola Cres\, Wuse 2\, Abuja\, FCT\, Nigeria
CATEGORIES:Fundraising,Party
END:VEVENT
BEGIN:VEVENT
DTSTART;TZID=America/New_York:20221111T200000
DTEND;TZID=America/New_York:20221112T030000
DTSTAMP:20260424T092346
CREATED:20221022T032435Z
LAST-MODIFIED:20221022T032435Z
UID:27461-1668196800-1668222000@gcuobausa.org
SUMMARY:Celebration of Life for Mrs. Victoria Azuannuka Ogbuehi
DESCRIPTION:Related Images:
URL:https://gcuobausa.org/event/celebration-of-life-for-mrs-victoria-azuannuka-ogbuehi/
LOCATION:Commons Community Center\, 1326 Main Chapel Way\, Gambrills\, MD\, 21054
CATEGORIES:Obituary
END:VEVENT
BEGIN:VEVENT
DTSTART;VALUE=DATE:20221111
DTEND;VALUE=DATE:20221114
DTSTAMP:20260424T092346
CREATED:20221020T100932Z
LAST-MODIFIED:20221103T154237Z
UID:27381-1668124800-1668383999@gcuobausa.org
SUMMARY:GCUOBA USA CONVENTION 2022
DESCRIPTION:Click Here to Book your Room \n  \nGovernment College Umuahia Old Boys Association in the United States (GCUOBA-USA Inc) a 501(c)3 organization\, cordially invites you to join in events marking its 20th anniversary\, the restoration and reopening of our Alma Mater\, Government College Umuahia\, and a celebration of thanksgiving. \nOver the past years\, you celebrated with us and generously contributed to our goal of restoring the school to a place or learning and educational excellence. \nJoin us as we report on what you have accomplished together. We salute you and would like this opportunity to say thank you. \nDate: Saturday\, November 12th\, 2022 @ 6:30 PM Prompt\nVenue: The Marriott DFW South Hotel\n4151 Centrepoint Drive\, Fort Worth\, Texas\, USA\, 76155\nTOLL FREE: +1-800-431-8162\nGala Dinner-Dance Tickets $50 each \nWe promise you a most enjoyable evening. \nA magazine will be published in support of this event which is expected to have a wide circulation and over a 1000 (one thousand) copies will be circulated amongst our readership in TEXAS and all over the United States. \nYou are also invited to advertise in booklet commemorating the events. You can also simply send goodwill messages to the association\, the institution\, any personalities or friends. The booklet will be in full color and will also feature articles of wide interest. \nAdvertising rates are as follows:\nInside front cover $500\nInside Pg 1 $250\nBack cover $500\nInside Back cover $250\nCenter Spread $500\nFull page inside $100 \nAll persons and organizations wishing to make insertions are advised to ensure that all materials (photos and text) are submitted with full Payment before October 31st\, 2022. Email all material to ikayon@live.com (310)345-0000 \nPlease address all checks to: \nGCUOBA-USA Inc. \nMail To: GCUOBA – ATTN: Vincent Ogbuehi \n3317 Knollcrest lane\, Mesquite Tx 75181\nOr Zelle Payments to\nPh: 214 207 5958 (Vincent Ogbuehi) \nCredit/Debit card Payment\nwww.gcuobausa/donate\nremarks: Ad Journal (Name) \nGCUOBA-USA Inc. Is A Tax Exempt 501(c)3 Organization Tax ID 02-061-7927 \nRelated Images:
URL:https://gcuobausa.org/event/27381/
LOCATION:Dallas Marriot Hotel Southwest\, 4151 Centreport Dr\, Fort Worth\, TX 76155\, United States
CATEGORIES:Convention
END:VEVENT
END:VCALENDAR